BEGIN:VCALENDAR
VERSION:2.0
PRODID:-//Southern Crescent Breastfeeding Coalition - ECPv6.15.13.1//NONSGML v1.0//EN
CALSCALE:GREGORIAN
METHOD:PUBLISH
X-ORIGINAL-URL:http://www.southerncrescentbreastfeeding.org
X-WR-CALDESC:Events for Southern Crescent Breastfeeding Coalition
REFRESH-INTERVAL;VALUE=DURATION:PT1H
X-Robots-Tag:noindex
X-PUBLISHED-TTL:PT1H
BEGIN:VTIMEZONE
TZID:America/New_York
BEGIN:DAYLIGHT
TZOFFSETFROM:-0500
TZOFFSETTO:-0400
TZNAME:EDT
DTSTART:20160313T070000
END:DAYLIGHT
BEGIN:STANDARD
TZOFFSETFROM:-0400
TZOFFSETTO:-0500
TZNAME:EST
DTSTART:20161106T060000
END:STANDARD
BEGIN:DAYLIGHT
TZOFFSETFROM:-0500
TZOFFSETTO:-0400
TZNAME:EDT
DTSTART:20170312T070000
END:DAYLIGHT
BEGIN:STANDARD
TZOFFSETFROM:-0400
TZOFFSETTO:-0500
TZNAME:EST
DTSTART:20171105T060000
END:STANDARD
BEGIN:DAYLIGHT
TZOFFSETFROM:-0500
TZOFFSETTO:-0400
TZNAME:EDT
DTSTART:20180311T070000
END:DAYLIGHT
BEGIN:STANDARD
TZOFFSETFROM:-0400
TZOFFSETTO:-0500
TZNAME:EST
DTSTART:20181104T060000
END:STANDARD
BEGIN:DAYLIGHT
TZOFFSETFROM:-0500
TZOFFSETTO:-0400
TZNAME:EDT
DTSTART:20190310T070000
END:DAYLIGHT
BEGIN:STANDARD
TZOFFSETFROM:-0400
TZOFFSETTO:-0500
TZNAME:EST
DTSTART:20191103T060000
END:STANDARD
BEGIN:DAYLIGHT
TZOFFSETFROM:-0500
TZOFFSETTO:-0400
TZNAME:EDT
DTSTART:20200308T070000
END:DAYLIGHT
BEGIN:STANDARD
TZOFFSETFROM:-0400
TZOFFSETTO:-0500
TZNAME:EST
DTSTART:20201101T060000
END:STANDARD
BEGIN:DAYLIGHT
TZOFFSETFROM:-0500
TZOFFSETTO:-0400
TZNAME:EDT
DTSTART:20210314T070000
END:DAYLIGHT
BEGIN:STANDARD
TZOFFSETFROM:-0400
TZOFFSETTO:-0500
TZNAME:EST
DTSTART:20211107T060000
END:STANDARD
BEGIN:DAYLIGHT
TZOFFSETFROM:-0500
TZOFFSETTO:-0400
TZNAME:EDT
DTSTART:20220313T070000
END:DAYLIGHT
BEGIN:STANDARD
TZOFFSETFROM:-0400
TZOFFSETTO:-0500
TZNAME:EST
DTSTART:20221106T060000
END:STANDARD
BEGIN:DAYLIGHT
TZOFFSETFROM:-0500
TZOFFSETTO:-0400
TZNAME:EDT
DTSTART:20230312T070000
END:DAYLIGHT
BEGIN:STANDARD
TZOFFSETFROM:-0400
TZOFFSETTO:-0500
TZNAME:EST
DTSTART:20231105T060000
END:STANDARD
BEGIN:DAYLIGHT
TZOFFSETFROM:-0500
TZOFFSETTO:-0400
TZNAME:EDT
DTSTART:20240310T070000
END:DAYLIGHT
BEGIN:STANDARD
TZOFFSETFROM:-0400
TZOFFSETTO:-0500
TZNAME:EST
DTSTART:20241103T060000
END:STANDARD
END:VTIMEZONE
BEGIN:VEVENT
DTSTART;VALUE=DATE:20230313
DTEND;VALUE=DATE:20230315
DTSTAMP:20260423T122328
CREATED:20230124T132236Z
LAST-MODIFIED:20230124T132236Z
UID:146-1678665600-1678838399@www.southerncrescentbreastfeeding.org
SUMMARY:Emory Breastfeeding Conference
DESCRIPTION:
URL:http://www.southerncrescentbreastfeeding.org/event/emory-breastfeeding-conference/
CATEGORIES:conference
END:VEVENT
BEGIN:VEVENT
DTSTART;TZID=America/New_York:20200708T080000
DTEND;TZID=America/New_York:20200711T170000
DTSTAMP:20260423T122328
CREATED:20160826T171516Z
LAST-MODIFIED:20160826T171516Z
UID:101-1594195200-1594486800@www.southerncrescentbreastfeeding.org
SUMMARY:ILCA 2020 Conference
DESCRIPTION:
URL:http://www.southerncrescentbreastfeeding.org/event/ilca-2020-conference/
LOCATION:Marriott Marquis Houston\, Houston\, GA\, United States
CATEGORIES:conference
END:VEVENT
BEGIN:VEVENT
DTSTART;TZID=America/New_York:20190724T080000
DTEND;TZID=America/New_York:20190727T170000
DTSTAMP:20260423T122328
CREATED:20160826T171358Z
LAST-MODIFIED:20160826T171358Z
UID:97-1563955200-1564246800@www.southerncrescentbreastfeeding.org
SUMMARY:ILCA 2019 Conference
DESCRIPTION:
URL:http://www.southerncrescentbreastfeeding.org/event/ilca-2019-conference/
LOCATION:Atlanta Mariott Marquis\, Atlanta\, GA\, United States
CATEGORIES:conference
END:VEVENT
BEGIN:VEVENT
DTSTART;TZID=America/New_York:20180718T080000
DTEND;TZID=America/New_York:20180721T170000
DTSTAMP:20260423T122328
CREATED:20160826T171237Z
LAST-MODIFIED:20160826T171237Z
UID:93-1531900800-1532192400@www.southerncrescentbreastfeeding.org
SUMMARY:ILCA 2018 Conference
DESCRIPTION:
URL:http://www.southerncrescentbreastfeeding.org/event/ilca-2018-conference/
LOCATION:Oregon Convention Center/Double Tree\, Portland\, OR\, United States
CATEGORIES:conference
END:VEVENT
BEGIN:VEVENT
DTSTART;TZID=America/New_York:20171111T080000
DTEND;TZID=America/New_York:20171111T170000
DTSTAMP:20260423T122328
CREATED:20161119T223608Z
LAST-MODIFIED:20161119T223608Z
UID:127-1510387200-1510419600@www.southerncrescentbreastfeeding.org
SUMMARY:SELCA Conference
DESCRIPTION:
URL:http://www.southerncrescentbreastfeeding.org/event/selca-conference/
LOCATION:Piedmont Atlanta\, 1968 Peachtree Road\, Atlanta\, GA\, 30309\, United States
CATEGORIES:conference
END:VEVENT
BEGIN:VEVENT
DTSTART;TZID=America/New_York:20170719T080000
DTEND;TZID=America/New_York:20170722T170000
DTSTAMP:20260423T122328
CREATED:20160826T171049Z
LAST-MODIFIED:20160826T171112Z
UID:86-1500451200-1500742800@www.southerncrescentbreastfeeding.org
SUMMARY:ILCA 2017 Conference
DESCRIPTION:
URL:http://www.southerncrescentbreastfeeding.org/event/ilca-conference/
LOCATION:Sheraton Centre Toronto Hotel & Towers\, Toronto\, Ontario\, Canada
CATEGORIES:conference
END:VEVENT
BEGIN:VEVENT
DTSTART;TZID=America/New_York:20170504T080000
DTEND;TZID=America/New_York:20170506T170000
DTSTAMP:20260423T122328
CREATED:20160826T160224Z
LAST-MODIFIED:20160826T160224Z
UID:74-1493884800-1494090000@www.southerncrescentbreastfeeding.org
SUMMARY:USLCA 2017 Conference
DESCRIPTION:New Horizons in Clinical Lactation\, San Antonio\, Texas May 4-6\, 2017.
URL:http://www.southerncrescentbreastfeeding.org/event/uslca-2017-conference/
LOCATION:Hyat Regency Hill Country
CATEGORIES:conference
END:VEVENT
BEGIN:VEVENT
DTSTART;TZID=America/New_York:20170329T080000
DTEND;TZID=America/New_York:20170329T170000
DTSTAMP:20260423T122328
CREATED:20160826T155300Z
LAST-MODIFIED:20160826T155300Z
UID:64-1490774400-1490806800@www.southerncrescentbreastfeeding.org
SUMMARY:Northwest Georgia Breastfeeding Coalition Annual Conference
DESCRIPTION:The Northwest Georgia Breastfeeding Coalition Annual Conference will be held Wednesday\, March 29\, 2017 and will feature Dr. Theresa Nesbit\, MD as the speaker.
URL:http://www.southerncrescentbreastfeeding.org/event/northwest-georgia-breastfeeding-coalition-annual-conference/
LOCATION:Northwest Georgia Trade & Convention Center\, Dalton\, GA\, United States
CATEGORIES:conference
END:VEVENT
BEGIN:VEVENT
DTSTART;TZID=America/New_York:20170313T080000
DTEND;TZID=America/New_York:20170314T170000
DTSTAMP:20260423T122328
CREATED:20160826T152828Z
LAST-MODIFIED:20160826T152900Z
UID:58-1489392000-1489510800@www.southerncrescentbreastfeeding.org
SUMMARY:Emory Conference on Breastfeeding
DESCRIPTION:The 27th Annual Conference on Breastfeeding will be held at the Emory Conference Center March 13-14\, 2017. Details are not yet available.
URL:http://www.southerncrescentbreastfeeding.org/event/emory-conference-breastfeeding/
LOCATION:Emory Conference Center\, 1615 Clifton Road\, Atlanta\, GA\, 30329\, United States
CATEGORIES:conference
END:VEVENT
END:VCALENDAR