BEGIN:VCALENDAR
VERSION:2.0
PRODID:-//Southern Crescent Breastfeeding Coalition - ECPv6.15.13.1//NONSGML v1.0//EN
CALSCALE:GREGORIAN
METHOD:PUBLISH
X-WR-CALNAME:Southern Crescent Breastfeeding Coalition
X-ORIGINAL-URL:http://www.southerncrescentbreastfeeding.org
X-WR-CALDESC:Events for Southern Crescent Breastfeeding Coalition
REFRESH-INTERVAL;VALUE=DURATION:PT1H
X-Robots-Tag:noindex
X-PUBLISHED-TTL:PT1H
BEGIN:VTIMEZONE
TZID:America/New_York
BEGIN:DAYLIGHT
TZOFFSETFROM:-0500
TZOFFSETTO:-0400
TZNAME:EDT
DTSTART:20150308T070000
END:DAYLIGHT
BEGIN:STANDARD
TZOFFSETFROM:-0400
TZOFFSETTO:-0500
TZNAME:EST
DTSTART:20151101T060000
END:STANDARD
BEGIN:DAYLIGHT
TZOFFSETFROM:-0500
TZOFFSETTO:-0400
TZNAME:EDT
DTSTART:20160313T070000
END:DAYLIGHT
BEGIN:STANDARD
TZOFFSETFROM:-0400
TZOFFSETTO:-0500
TZNAME:EST
DTSTART:20161106T060000
END:STANDARD
BEGIN:DAYLIGHT
TZOFFSETFROM:-0500
TZOFFSETTO:-0400
TZNAME:EDT
DTSTART:20170312T070000
END:DAYLIGHT
BEGIN:STANDARD
TZOFFSETFROM:-0400
TZOFFSETTO:-0500
TZNAME:EST
DTSTART:20171105T060000
END:STANDARD
END:VTIMEZONE
BEGIN:VEVENT
DTSTART;TZID=America/New_York:20161118T120000
DTEND;TZID=America/New_York:20161118T130000
DTSTAMP:20260423T124643
CREATED:20161119T222858Z
LAST-MODIFIED:20161119T222858Z
UID:123-1479470400-1479474000@www.southerncrescentbreastfeeding.org
SUMMARY:Coalition Meeting
DESCRIPTION:
URL:http://www.southerncrescentbreastfeeding.org/event/coalition-meeting-7/
LOCATION:Piedmont Henry Hospital\, 1133 Eagles Landing Pkwy\, Stockbridge\, GA\, 30281\, United States
END:VEVENT
BEGIN:VEVENT
DTSTART;TZID=America/New_York:20161112T080000
DTEND;TZID=America/New_York:20161112T170000
DTSTAMP:20260423T124643
CREATED:20160826T160904Z
LAST-MODIFIED:20160826T160904Z
UID:80-1478937600-1478970000@www.southerncrescentbreastfeeding.org
SUMMARY:SELCA Meeting
DESCRIPTION:
URL:http://www.southerncrescentbreastfeeding.org/event/selca-meeting/
LOCATION:Northside Hospital Doctors Building\, 980 Johnson Ferry Road\, Atlanta\, GA\, 30342\, United States
END:VEVENT
BEGIN:VEVENT
DTSTART;TZID=America/New_York:20161001T080000
DTEND;TZID=America/New_York:20161001T170000
DTSTAMP:20260423T124643
CREATED:20160826T155726Z
LAST-MODIFIED:20160826T155726Z
UID:70-1475308800-1475341200@www.southerncrescentbreastfeeding.org
SUMMARY:Express Your Superpower 5K
DESCRIPTION:
URL:http://www.southerncrescentbreastfeeding.org/event/express-superpower-5k/
END:VEVENT
END:VCALENDAR